BEGIN:VCALENDAR
VERSION:2.0
PRODID:-//Heimatverein Lohne e.V. - ECPv6.15.20//NONSGML v1.0//EN
CALSCALE:GREGORIAN
METHOD:PUBLISH
X-ORIGINAL-URL:https://lohner-heimatverein.de
X-WR-CALDESC:Veranstaltungen für Heimatverein Lohne e.V.
REFRESH-INTERVAL;VALUE=DURATION:PT1H
X-Robots-Tag:noindex
X-PUBLISHED-TTL:PT1H
BEGIN:VTIMEZONE
TZID:Europe/Berlin
BEGIN:DAYLIGHT
TZOFFSETFROM:+0100
TZOFFSETTO:+0200
TZNAME:CEST
DTSTART:20240331T010000
END:DAYLIGHT
BEGIN:STANDARD
TZOFFSETFROM:+0200
TZOFFSETTO:+0100
TZNAME:CET
DTSTART:20241027T010000
END:STANDARD
BEGIN:DAYLIGHT
TZOFFSETFROM:+0100
TZOFFSETTO:+0200
TZNAME:CEST
DTSTART:20250330T010000
END:DAYLIGHT
BEGIN:STANDARD
TZOFFSETFROM:+0200
TZOFFSETTO:+0100
TZNAME:CET
DTSTART:20251026T010000
END:STANDARD
BEGIN:DAYLIGHT
TZOFFSETFROM:+0100
TZOFFSETTO:+0200
TZNAME:CEST
DTSTART:20260329T010000
END:DAYLIGHT
BEGIN:STANDARD
TZOFFSETFROM:+0200
TZOFFSETTO:+0100
TZNAME:CET
DTSTART:20261025T010000
END:STANDARD
END:VTIMEZONE
BEGIN:VEVENT
DTSTART;TZID=Europe/Berlin:20251201T190000
DTEND;TZID=Europe/Berlin:20251201T230000
DTSTAMP:20260424T071702
CREATED:20250901T153149Z
LAST-MODIFIED:20250901T153154Z
UID:3986-1764615600-1764630000@lohner-heimatverein.de
SUMMARY:Bläser
DESCRIPTION:
URL:https://lohner-heimatverein.de/termin/blaeser-45/
LOCATION:Niedersachsen
CATEGORIES:Belegung von Dritten
END:VEVENT
BEGIN:VEVENT
DTSTART;TZID=Europe/Berlin:20251202T090000
DTEND;TZID=Europe/Berlin:20251202T120000
DTSTAMP:20260424T071702
CREATED:20251029T173913Z
LAST-MODIFIED:20251029T173917Z
UID:4057-1764666000-1764676800@lohner-heimatverein.de
SUMMARY:Kindergarten (Deele)
DESCRIPTION:
URL:https://lohner-heimatverein.de/termin/kindergarten-deele-2/
LOCATION:Niedersachsen
CATEGORIES:Belegung von Dritten
END:VEVENT
BEGIN:VEVENT
DTSTART;TZID=Europe/Berlin:20251205T080000
DTEND;TZID=Europe/Berlin:20251205T200000
DTSTAMP:20260424T071702
CREATED:20241129T084209Z
LAST-MODIFIED:20241203T080116Z
UID:3685-1764921600-1764964800@lohner-heimatverein.de
SUMMARY:Vorbereitung Lohner Weihnachtsmarkt
DESCRIPTION:
URL:https://lohner-heimatverein.de/termin/vorbereitung-lohner-weihnachtsmarkt/
LOCATION:Niedersachsen
CATEGORIES:Belegung von Dritten
END:VEVENT
BEGIN:VEVENT
DTSTART;TZID=Europe/Berlin:20251206T080000
DTEND;TZID=Europe/Berlin:20251206T233000
DTSTAMP:20260424T071702
CREATED:20241129T084248Z
LAST-MODIFIED:20241203T080042Z
UID:3687-1765008000-1765063800@lohner-heimatverein.de
SUMMARY:Lohner Weihnachtsmarkt
DESCRIPTION:
URL:https://lohner-heimatverein.de/termin/lohner-weihnachtsmarkt/
LOCATION:Heimathaus Lohne\, Hauptstrasse 77 A\, Wietmarschen OT Lohne\, Niedersachsen\, 49835\, Deutschland
CATEGORIES:Belegung von Dritten
END:VEVENT
BEGIN:VEVENT
DTSTART;TZID=Europe/Berlin:20251207T080000
DTEND;TZID=Europe/Berlin:20251207T233000
DTSTAMP:20260424T071702
CREATED:20241129T084330Z
LAST-MODIFIED:20241203T080004Z
UID:3689-1765094400-1765150200@lohner-heimatverein.de
SUMMARY:Lohner Weihnachtsmarkt
DESCRIPTION:
URL:https://lohner-heimatverein.de/termin/lohner-weihnachtsmarkt-2/
LOCATION:Heimathaus Lohne\, Hauptstrasse 77 A\, Wietmarschen OT Lohne\, Niedersachsen\, 49835\, Deutschland
CATEGORIES:Belegung von Dritten
END:VEVENT
BEGIN:VEVENT
DTSTART;TZID=Europe/Berlin:20251213T130000
DTEND;TZID=Europe/Berlin:20251213T180000
DTSTAMP:20260424T071702
CREATED:20241128T125245Z
LAST-MODIFIED:20241203T080207Z
UID:3681-1765630800-1765648800@lohner-heimatverein.de
SUMMARY:Lustige Runde
DESCRIPTION:
URL:https://lohner-heimatverein.de/termin/lustige-runde-3/
LOCATION:Heimathaus Lohne\, Hauptstrasse 77 A\, Wietmarschen OT Lohne\, Niedersachsen\, 49835\, Deutschland
CATEGORIES:Belegung von Dritten
END:VEVENT
BEGIN:VEVENT
DTSTART;TZID=Europe/Berlin:20251214T140000
DTEND;TZID=Europe/Berlin:20251214T210000
DTSTAMP:20260424T071702
CREATED:20251101T195026Z
LAST-MODIFIED:20251101T195030Z
UID:4064-1765720800-1765746000@lohner-heimatverein.de
SUMMARY:Alte Herren
DESCRIPTION:
URL:https://lohner-heimatverein.de/termin/alte-herren-5/
LOCATION:Niedersachsen
CATEGORIES:Belegung von Dritten
END:VEVENT
BEGIN:VEVENT
DTSTART;TZID=Europe/Berlin:20251216T170000
DTEND;TZID=Europe/Berlin:20251216T210000
DTSTAMP:20260424T071702
CREATED:20251214T104017Z
LAST-MODIFIED:20251214T104027Z
UID:4242-1765904400-1765918800@lohner-heimatverein.de
SUMMARY:HV Lohne
DESCRIPTION:
URL:https://lohner-heimatverein.de/termin/hv-lohne/
LOCATION:Niedersachsen
CATEGORIES:Belegung von Dritten
END:VEVENT
BEGIN:VEVENT
DTSTART;TZID=Europe/Berlin:20251217T140000
DTEND;TZID=Europe/Berlin:20251217T180000
DTSTAMP:20260424T071702
CREATED:20251005T105408Z
LAST-MODIFIED:20251005T105546Z
UID:4028-1765980000-1765994400@lohner-heimatverein.de
SUMMARY:Tanzgruppe Lohne
DESCRIPTION:
URL:https://lohner-heimatverein.de/termin/tanzgruppe-lohne-4/
LOCATION:Niedersachsen
CATEGORIES:Belegung von Dritten
END:VEVENT
BEGIN:VEVENT
DTSTART;TZID=Europe/Berlin:20251218T150000
DTEND;TZID=Europe/Berlin:20251218T153000
DTSTAMP:20260424T071702
CREATED:20250430T065702Z
LAST-MODIFIED:20250430T065705Z
UID:3869-1766070000-1766071800@lohner-heimatverein.de
SUMMARY:Trauung
DESCRIPTION:
URL:https://lohner-heimatverein.de/termin/trauung-261/
LOCATION:Niedersachsen
CATEGORIES:Gemeinde Wietmarschen
END:VEVENT
BEGIN:VEVENT
DTSTART;TZID=Europe/Berlin:20251218T153000
DTEND;TZID=Europe/Berlin:20251218T183000
DTSTAMP:20260424T071702
CREATED:20251031T084932Z
LAST-MODIFIED:20251031T084936Z
UID:4062-1766071800-1766082600@lohner-heimatverein.de
SUMMARY:Trauung 15 Uhr + Deele 3 Std.
DESCRIPTION:
URL:https://lohner-heimatverein.de/termin/trauung-15-uhr-deele-3-std/
LOCATION:Niedersachsen
CATEGORIES:Belegung von Dritten
END:VEVENT
BEGIN:VEVENT
DTSTART;TZID=Europe/Berlin:20251218T193000
DTEND;TZID=Europe/Berlin:20251218T233000
DTSTAMP:20260424T071702
CREATED:20250121T103003Z
LAST-MODIFIED:20250121T103006Z
UID:3757-1766086200-1766100600@lohner-heimatverein.de
SUMMARY:Spieletreff
DESCRIPTION:
URL:https://lohner-heimatverein.de/termin/spieletreff-77/
LOCATION:Niedersachsen
CATEGORIES:Belegung von Dritten
END:VEVENT
BEGIN:VEVENT
DTSTART;TZID=Europe/Berlin:20251229T190000
DTEND;TZID=Europe/Berlin:20251229T220000
DTSTAMP:20260424T071702
CREATED:20241122T093428Z
LAST-MODIFIED:20241122T093428Z
UID:3594-1767034800-1767045600@lohner-heimatverein.de
SUMMARY:Vorstandssitzung Heimatverein
DESCRIPTION:
URL:https://lohner-heimatverein.de/termin/vorstandssitzung-heimatverein-18/
LOCATION:Heimathaus Lohne\, Hauptstrasse 77 A\, Wietmarschen OT Lohne\, Niedersachsen\, 49835\, Deutschland
CATEGORIES:Heimatverein Lohne
END:VEVENT
END:VCALENDAR