BEGIN:VCALENDAR
VERSION:2.0
PRODID:-//Heimatverein Lohne e.V. - ECPv6.15.20//NONSGML v1.0//EN
CALSCALE:GREGORIAN
METHOD:PUBLISH
X-ORIGINAL-URL:https://lohner-heimatverein.de
X-WR-CALDESC:Veranstaltungen für Heimatverein Lohne e.V.
REFRESH-INTERVAL;VALUE=DURATION:PT1H
X-Robots-Tag:noindex
X-PUBLISHED-TTL:PT1H
BEGIN:VTIMEZONE
TZID:Europe/Berlin
BEGIN:DAYLIGHT
TZOFFSETFROM:+0100
TZOFFSETTO:+0200
TZNAME:CEST
DTSTART:20240331T010000
END:DAYLIGHT
BEGIN:STANDARD
TZOFFSETFROM:+0200
TZOFFSETTO:+0100
TZNAME:CET
DTSTART:20241027T010000
END:STANDARD
BEGIN:DAYLIGHT
TZOFFSETFROM:+0100
TZOFFSETTO:+0200
TZNAME:CEST
DTSTART:20250330T010000
END:DAYLIGHT
BEGIN:STANDARD
TZOFFSETFROM:+0200
TZOFFSETTO:+0100
TZNAME:CET
DTSTART:20251026T010000
END:STANDARD
BEGIN:DAYLIGHT
TZOFFSETFROM:+0100
TZOFFSETTO:+0200
TZNAME:CEST
DTSTART:20260329T010000
END:DAYLIGHT
BEGIN:STANDARD
TZOFFSETFROM:+0200
TZOFFSETTO:+0100
TZNAME:CET
DTSTART:20261025T010000
END:STANDARD
END:VTIMEZONE
BEGIN:VEVENT
DTSTART;TZID=Europe/Berlin:20251005T080000
DTEND;TZID=Europe/Berlin:20251005T150000
DTSTAMP:20260424T105911
CREATED:20241122T103624Z
LAST-MODIFIED:20241122T103624Z
UID:3607-1759651200-1759676400@lohner-heimatverein.de
SUMMARY:Vorbereitung Ökumenische Erntedankandacht
DESCRIPTION:
URL:https://lohner-heimatverein.de/termin/vorbereitung-oekumenische-erntedankandacht-3/
LOCATION:Heimathaus Lohne\, Hauptstrasse 77 A\, Wietmarschen OT Lohne\, Niedersachsen\, 49835\, Deutschland
CATEGORIES:Heimatverein Lohne
END:VEVENT
BEGIN:VEVENT
DTSTART;TZID=Europe/Berlin:20251005T150000
DTEND;TZID=Europe/Berlin:20251005T170000
DTSTAMP:20260424T105911
CREATED:20241122T103533Z
LAST-MODIFIED:20241122T103533Z
UID:3605-1759676400-1759683600@lohner-heimatverein.de
SUMMARY:Ökumenische Erntedankandacht
DESCRIPTION:
URL:https://lohner-heimatverein.de/termin/oekumenische-erntedankandacht-5/
LOCATION:Heimathaus Lohne\, Hauptstrasse 77 A\, Wietmarschen OT Lohne\, Niedersachsen\, 49835\, Deutschland
CATEGORIES:Heimatverein Lohne
END:VEVENT
BEGIN:VEVENT
DTSTART;TZID=Europe/Berlin:20251006T190000
DTEND;TZID=Europe/Berlin:20251006T230000
DTSTAMP:20260424T105911
CREATED:20250901T152705Z
LAST-MODIFIED:20250901T152709Z
UID:3968-1759777200-1759791600@lohner-heimatverein.de
SUMMARY:Bläser
DESCRIPTION:
URL:https://lohner-heimatverein.de/termin/blaeser-37/
LOCATION:Niedersachsen
CATEGORIES:Belegung von Dritten
END:VEVENT
BEGIN:VEVENT
DTSTART;TZID=Europe/Berlin:20251013T190000
DTEND;TZID=Europe/Berlin:20251013T230000
DTSTAMP:20260424T105911
CREATED:20250901T152736Z
LAST-MODIFIED:20250901T152740Z
UID:3970-1760382000-1760396400@lohner-heimatverein.de
SUMMARY:Bläser
DESCRIPTION:
URL:https://lohner-heimatverein.de/termin/blaeser-38/
LOCATION:Niedersachsen
CATEGORIES:Belegung von Dritten
END:VEVENT
BEGIN:VEVENT
DTSTART;TZID=Europe/Berlin:20251018T120000
DTEND;TZID=Europe/Berlin:20251018T190000
DTSTAMP:20260424T105911
CREATED:20250711T172108Z
LAST-MODIFIED:20250711T172116Z
UID:3900-1760788800-1760814000@lohner-heimatverein.de
SUMMARY:Wandergruppe HV Lohne
DESCRIPTION:
URL:https://lohner-heimatverein.de/termin/wandergruppe-hv-lohne/
LOCATION:Niedersachsen
CATEGORIES:Belegung von Dritten
END:VEVENT
BEGIN:VEVENT
DTSTART;TZID=Europe/Berlin:20251020T190000
DTEND;TZID=Europe/Berlin:20251020T230000
DTSTAMP:20260424T105911
CREATED:20250901T152809Z
LAST-MODIFIED:20250901T152815Z
UID:3972-1760986800-1761001200@lohner-heimatverein.de
SUMMARY:Bläser
DESCRIPTION:
URL:https://lohner-heimatverein.de/termin/blaeser-39/
LOCATION:Niedersachsen
CATEGORIES:Belegung von Dritten
END:VEVENT
BEGIN:VEVENT
DTSTART;TZID=Europe/Berlin:20251027T190000
DTEND;TZID=Europe/Berlin:20251027T220000
DTSTAMP:20260424T105911
CREATED:20241122T093245Z
LAST-MODIFIED:20241122T093245Z
UID:3590-1761591600-1761602400@lohner-heimatverein.de
SUMMARY:Vorstandssitzung Heimatverein
DESCRIPTION:
URL:https://lohner-heimatverein.de/termin/vorstandssitzung-heimatverein-16/
LOCATION:Heimathaus Lohne\, Hauptstrasse 77 A\, Wietmarschen OT Lohne\, Niedersachsen\, 49835\, Deutschland
CATEGORIES:Heimatverein Lohne
END:VEVENT
BEGIN:VEVENT
DTSTART;TZID=Europe/Berlin:20251027T190000
DTEND;TZID=Europe/Berlin:20251027T230000
DTSTAMP:20260424T105911
CREATED:20250901T152843Z
LAST-MODIFIED:20250901T152848Z
UID:3975-1761591600-1761606000@lohner-heimatverein.de
SUMMARY:Bläser
DESCRIPTION: 
URL:https://lohner-heimatverein.de/termin/blaeser-40/
LOCATION:Niedersachsen
CATEGORIES:Belegung von Dritten
END:VEVENT
BEGIN:VEVENT
DTSTART;TZID=Europe/Berlin:20251028T150000
DTEND;TZID=Europe/Berlin:20251028T233000
DTSTAMP:20260424T105911
CREATED:20251024T132942Z
LAST-MODIFIED:20251024T132947Z
UID:4040-1761663600-1761694200@lohner-heimatverein.de
SUMMARY:KFD ( Deele)
DESCRIPTION:
URL:https://lohner-heimatverein.de/termin/kfd-deele/
LOCATION:Niedersachsen
CATEGORIES:Belegung von Dritten
END:VEVENT
BEGIN:VEVENT
DTSTART;TZID=Europe/Berlin:20251030T193000
DTEND;TZID=Europe/Berlin:20251030T233000
DTSTAMP:20260424T105911
CREATED:20250121T102427Z
LAST-MODIFIED:20250121T102430Z
UID:3749-1761852600-1761867000@lohner-heimatverein.de
SUMMARY:Spieletreff
DESCRIPTION:
URL:https://lohner-heimatverein.de/termin/spieletreff-73/
LOCATION:Niedersachsen
CATEGORIES:Belegung von Dritten
END:VEVENT
END:VCALENDAR