BEGIN:VCALENDAR
VERSION:2.0
PRODID:-//Heimatverein Lohne e.V. - ECPv6.15.20//NONSGML v1.0//EN
CALSCALE:GREGORIAN
METHOD:PUBLISH
X-WR-CALNAME:Heimatverein Lohne e.V.
X-ORIGINAL-URL:https://lohner-heimatverein.de
X-WR-CALDESC:Veranstaltungen für Heimatverein Lohne e.V.
REFRESH-INTERVAL;VALUE=DURATION:PT1H
X-Robots-Tag:noindex
X-PUBLISHED-TTL:PT1H
BEGIN:VTIMEZONE
TZID:Europe/Berlin
BEGIN:DAYLIGHT
TZOFFSETFROM:+0100
TZOFFSETTO:+0200
TZNAME:CEST
DTSTART:20240331T010000
END:DAYLIGHT
BEGIN:STANDARD
TZOFFSETFROM:+0200
TZOFFSETTO:+0100
TZNAME:CET
DTSTART:20241027T010000
END:STANDARD
BEGIN:DAYLIGHT
TZOFFSETFROM:+0100
TZOFFSETTO:+0200
TZNAME:CEST
DTSTART:20250330T010000
END:DAYLIGHT
BEGIN:STANDARD
TZOFFSETFROM:+0200
TZOFFSETTO:+0100
TZNAME:CET
DTSTART:20251026T010000
END:STANDARD
BEGIN:DAYLIGHT
TZOFFSETFROM:+0100
TZOFFSETTO:+0200
TZNAME:CEST
DTSTART:20260329T010000
END:DAYLIGHT
BEGIN:STANDARD
TZOFFSETFROM:+0200
TZOFFSETTO:+0100
TZNAME:CET
DTSTART:20261025T010000
END:STANDARD
END:VTIMEZONE
BEGIN:VEVENT
DTSTART;TZID=Europe/Berlin:20251114T160000
DTEND;TZID=Europe/Berlin:20251114T163000
DTSTAMP:20260424T110825
CREATED:20250526T064345Z
LAST-MODIFIED:20250526T064612Z
UID:3877-1763136000-1763137800@lohner-heimatverein.de
SUMMARY:Trauung
DESCRIPTION:
URL:https://lohner-heimatverein.de/termin/trauung-263/
LOCATION:Niedersachsen
CATEGORIES:Gemeinde Wietmarschen
END:VEVENT
BEGIN:VEVENT
DTSTART;TZID=Europe/Berlin:20251114T163000
DTEND;TZID=Europe/Berlin:20251114T193000
DTSTAMP:20260424T110825
CREATED:20251114T103058Z
LAST-MODIFIED:20251114T103102Z
UID:4071-1763137800-1763148600@lohner-heimatverein.de
SUMMARY:Trauung 16:00 Deele 3 Std.
DESCRIPTION:
URL:https://lohner-heimatverein.de/termin/trauung-1600-deele-3-std/
LOCATION:Niedersachsen
CATEGORIES:Belegung von Dritten
END:VEVENT
END:VCALENDAR