BEGIN:VCALENDAR
VERSION:2.0
PRODID:-//Heimatverein Lohne e.V. - ECPv6.15.20//NONSGML v1.0//EN
CALSCALE:GREGORIAN
METHOD:PUBLISH
X-WR-CALNAME:Heimatverein Lohne e.V.
X-ORIGINAL-URL:https://lohner-heimatverein.de
X-WR-CALDESC:Veranstaltungen für Heimatverein Lohne e.V.
REFRESH-INTERVAL;VALUE=DURATION:PT1H
X-Robots-Tag:noindex
X-PUBLISHED-TTL:PT1H
BEGIN:VTIMEZONE
TZID:Europe/Berlin
BEGIN:DAYLIGHT
TZOFFSETFROM:+0100
TZOFFSETTO:+0200
TZNAME:CEST
DTSTART:20240331T010000
END:DAYLIGHT
BEGIN:STANDARD
TZOFFSETFROM:+0200
TZOFFSETTO:+0100
TZNAME:CET
DTSTART:20241027T010000
END:STANDARD
BEGIN:DAYLIGHT
TZOFFSETFROM:+0100
TZOFFSETTO:+0200
TZNAME:CEST
DTSTART:20250330T010000
END:DAYLIGHT
BEGIN:STANDARD
TZOFFSETFROM:+0200
TZOFFSETTO:+0100
TZNAME:CET
DTSTART:20251026T010000
END:STANDARD
BEGIN:DAYLIGHT
TZOFFSETFROM:+0100
TZOFFSETTO:+0200
TZNAME:CEST
DTSTART:20260329T010000
END:DAYLIGHT
BEGIN:STANDARD
TZOFFSETFROM:+0200
TZOFFSETTO:+0100
TZNAME:CET
DTSTART:20261025T010000
END:STANDARD
END:VTIMEZONE
BEGIN:VEVENT
DTSTART;TZID=Europe/Berlin:20251005T080000
DTEND;TZID=Europe/Berlin:20251005T150000
DTSTAMP:20260424T122732
CREATED:20241122T103624Z
LAST-MODIFIED:20241122T103624Z
UID:3607-1759651200-1759676400@lohner-heimatverein.de
SUMMARY:Vorbereitung Ökumenische Erntedankandacht
DESCRIPTION:
URL:https://lohner-heimatverein.de/termin/vorbereitung-oekumenische-erntedankandacht-3/
LOCATION:Heimathaus Lohne\, Hauptstrasse 77 A\, Wietmarschen OT Lohne\, Niedersachsen\, 49835\, Deutschland
CATEGORIES:Heimatverein Lohne
END:VEVENT
BEGIN:VEVENT
DTSTART;TZID=Europe/Berlin:20251005T150000
DTEND;TZID=Europe/Berlin:20251005T170000
DTSTAMP:20260424T122732
CREATED:20241122T103533Z
LAST-MODIFIED:20241122T103533Z
UID:3605-1759676400-1759683600@lohner-heimatverein.de
SUMMARY:Ökumenische Erntedankandacht
DESCRIPTION:
URL:https://lohner-heimatverein.de/termin/oekumenische-erntedankandacht-5/
LOCATION:Heimathaus Lohne\, Hauptstrasse 77 A\, Wietmarschen OT Lohne\, Niedersachsen\, 49835\, Deutschland
CATEGORIES:Heimatverein Lohne
END:VEVENT
END:VCALENDAR