BEGIN:VCALENDAR
VERSION:2.0
PRODID:-//Heimatverein Lohne e.V. - ECPv6.15.20//NONSGML v1.0//EN
CALSCALE:GREGORIAN
METHOD:PUBLISH
X-WR-CALNAME:Heimatverein Lohne e.V.
X-ORIGINAL-URL:https://lohner-heimatverein.de
X-WR-CALDESC:Veranstaltungen für Heimatverein Lohne e.V.
REFRESH-INTERVAL;VALUE=DURATION:PT1H
X-Robots-Tag:noindex
X-PUBLISHED-TTL:PT1H
BEGIN:VTIMEZONE
TZID:Europe/Berlin
BEGIN:DAYLIGHT
TZOFFSETFROM:+0100
TZOFFSETTO:+0200
TZNAME:CEST
DTSTART:20240331T010000
END:DAYLIGHT
BEGIN:STANDARD
TZOFFSETFROM:+0200
TZOFFSETTO:+0100
TZNAME:CET
DTSTART:20241027T010000
END:STANDARD
BEGIN:DAYLIGHT
TZOFFSETFROM:+0100
TZOFFSETTO:+0200
TZNAME:CEST
DTSTART:20250330T010000
END:DAYLIGHT
BEGIN:STANDARD
TZOFFSETFROM:+0200
TZOFFSETTO:+0100
TZNAME:CET
DTSTART:20251026T010000
END:STANDARD
BEGIN:DAYLIGHT
TZOFFSETFROM:+0100
TZOFFSETTO:+0200
TZNAME:CEST
DTSTART:20260329T010000
END:DAYLIGHT
BEGIN:STANDARD
TZOFFSETFROM:+0200
TZOFFSETTO:+0100
TZNAME:CET
DTSTART:20261025T010000
END:STANDARD
END:VTIMEZONE
BEGIN:VEVENT
DTSTART;TZID=Europe/Berlin:20250919T150000
DTEND;TZID=Europe/Berlin:20250919T153000
DTSTAMP:20260424T140608
CREATED:20250317T141407Z
LAST-MODIFIED:20250317T141726Z
UID:3852-1758294000-1758295800@lohner-heimatverein.de
SUMMARY:Trauung
DESCRIPTION:
URL:https://lohner-heimatverein.de/termin/trauung-255/
LOCATION:Niedersachsen
CATEGORIES:Gemeinde Wietmarschen
END:VEVENT
BEGIN:VEVENT
DTSTART;TZID=Europe/Berlin:20250919T160000
DTEND;TZID=Europe/Berlin:20250919T163000
DTSTAMP:20260424T140608
CREATED:20250715T061435Z
LAST-MODIFIED:20250715T061439Z
UID:3907-1758297600-1758299400@lohner-heimatverein.de
SUMMARY:Trauung
DESCRIPTION:
URL:https://lohner-heimatverein.de/termin/trauung-271/
LOCATION:Niedersachsen
CATEGORIES:Gemeinde Wietmarschen
END:VEVENT
END:VCALENDAR