BEGIN:VCALENDAR
VERSION:2.0
PRODID:-//Heimatverein Lohne e.V. - ECPv6.15.20//NONSGML v1.0//EN
CALSCALE:GREGORIAN
METHOD:PUBLISH
X-ORIGINAL-URL:https://lohner-heimatverein.de
X-WR-CALDESC:Veranstaltungen für Heimatverein Lohne e.V.
REFRESH-INTERVAL;VALUE=DURATION:PT1H
X-Robots-Tag:noindex
X-PUBLISHED-TTL:PT1H
BEGIN:VTIMEZONE
TZID:Europe/Berlin
BEGIN:DAYLIGHT
TZOFFSETFROM:+0100
TZOFFSETTO:+0200
TZNAME:CEST
DTSTART:20210328T010000
END:DAYLIGHT
BEGIN:STANDARD
TZOFFSETFROM:+0200
TZOFFSETTO:+0100
TZNAME:CET
DTSTART:20211031T010000
END:STANDARD
BEGIN:DAYLIGHT
TZOFFSETFROM:+0100
TZOFFSETTO:+0200
TZNAME:CEST
DTSTART:20220327T010000
END:DAYLIGHT
BEGIN:STANDARD
TZOFFSETFROM:+0200
TZOFFSETTO:+0100
TZNAME:CET
DTSTART:20221030T010000
END:STANDARD
BEGIN:DAYLIGHT
TZOFFSETFROM:+0100
TZOFFSETTO:+0200
TZNAME:CEST
DTSTART:20230326T010000
END:DAYLIGHT
BEGIN:STANDARD
TZOFFSETFROM:+0200
TZOFFSETTO:+0100
TZNAME:CET
DTSTART:20231029T010000
END:STANDARD
END:VTIMEZONE
BEGIN:VEVENT
DTSTART;TZID=Europe/Berlin:20220604T113000
DTEND;TZID=Europe/Berlin:20220604T120000
DTSTAMP:20260425T175239
CREATED:20211229T112512Z
LAST-MODIFIED:20211229T112517Z
UID:2305-1654342200-1654344000@lohner-heimatverein.de
SUMMARY:Trauung
DESCRIPTION:
URL:https://lohner-heimatverein.de/termin/trauung-132/
LOCATION:Niedersachsen
CATEGORIES:Gemeinde Wietmarschen
END:VEVENT
BEGIN:VEVENT
DTSTART;TZID=Europe/Berlin:20220604T123000
DTEND;TZID=Europe/Berlin:20220604T130000
DTSTAMP:20260425T175239
CREATED:20210618T081552Z
LAST-MODIFIED:20210618T081555Z
UID:2032-1654345800-1654347600@lohner-heimatverein.de
SUMMARY:Trauung
DESCRIPTION:
URL:https://lohner-heimatverein.de/termin/trauung-101/
LOCATION:Niedersachsen
CATEGORIES:Gemeinde Wietmarschen
END:VEVENT
END:VCALENDAR